BEGIN:VCALENDAR
VERSION:2.0
PRODID:-//Macleod JFC - ECPv5.1.6//NONSGML v1.0//EN
CALSCALE:GREGORIAN
METHOD:PUBLISH
X-WR-CALNAME:Macleod JFC
X-ORIGINAL-URL:https://macleodjfc.com.au
X-WR-CALDESC:Events for Macleod JFC
BEGIN:VTIMEZONE
TZID:Australia/Melbourne
BEGIN:STANDARD
TZOFFSETFROM:+1100
TZOFFSETTO:+1000
TZNAME:AEST
DTSTART:20170401T160000
END:STANDARD
BEGIN:DAYLIGHT
TZOFFSETFROM:+1000
TZOFFSETTO:+1100
TZNAME:AEDT
DTSTART:20170930T160000
END:DAYLIGHT
END:VTIMEZONE
BEGIN:VEVENT
DTSTART;TZID=Australia/Melbourne:20170623T193000
DTEND;TZID=Australia/Melbourne:20170623T233000
DTSTAMP:20210301T220214
CREATED:20170607T121113Z
LAST-MODIFIED:20170607T121146Z
UID:1196-1498246200-1498260600@macleodjfc.com.au
SUMMARY:Ladies Night
DESCRIPTION:ladies night
URL:https://macleodjfc.com.au/event/ladies-night/
LOCATION:Macleod Junior Football Club\, Chapman St\, Macleod\, 3085\, Australia
CATEGORIES:Fund Raising
ATTACH;FMTTYPE=image/png:https://secureservercdn.net/45.40.148.117/175.504.myftpupload.com/wp-content/uploads/2017/06/Screen-Shot-2017-06-07-at-10.04.29-PM.png?time=1614590811
END:VEVENT
END:VCALENDAR