BEGIN:VCALENDAR
VERSION:2.0
PRODID:-//Macleod JFC - ECPv4.9.12//NONSGML v1.0//EN
CALSCALE:GREGORIAN
METHOD:PUBLISH
X-WR-CALNAME:Macleod JFC
X-ORIGINAL-URL:https://macleodjfc.com.au
X-WR-CALDESC:Events for Macleod JFC
BEGIN:VTIMEZONE
TZID:Australia/Melbourne
BEGIN:STANDARD
TZOFFSETFROM:+1100
TZOFFSETTO:+1000
TZNAME:AEST
DTSTART:20180331T160000
END:STANDARD
BEGIN:DAYLIGHT
TZOFFSETFROM:+1000
TZOFFSETTO:+1100
TZNAME:AEDT
DTSTART:20181006T160000
END:DAYLIGHT
END:VTIMEZONE
BEGIN:VEVENT
DTSTART;TZID=Australia/Melbourne:20181216T090000
DTEND;TZID=Australia/Melbourne:20181221T110000
DTSTAMP:20200301T154709
CREATED:20181211T031855Z
LAST-MODIFIED:20181211T033111Z
UID:1912-1544950800-1545390000@macleodjfc.com.au
SUMMARY:Come Try & Fly... as an Eagle!
DESCRIPTION:Try & Fly Day Flyer - A5 1up\n
URL:https://macleodjfc.com.au/event/come-try-fly-as-an-eagle/
LOCATION:Macleod Junior Football Club\, Chapman St\, Macleod\, 3085\, Australia
ATTACH;FMTTYPE=image/png:https://secureservercdn.net/72.167.25.126/175.504.myftpupload.com/wp-content/uploads/2018/12/Screen-Shot-2018-12-11-at-2.29.58-pm-e1544499047584.png?time=1583066524
END:VEVENT
END:VCALENDAR